BEGIN:VCALENDAR
VERSION:2.0
PRODID:-//Ticketreservation Alte Kaserne Kulturzentrum - ECPv6.13.2.1//NONSGML v1.0//EN
CALSCALE:GREGORIAN
METHOD:PUBLISH
X-WR-CALNAME:Ticketreservation Alte Kaserne Kulturzentrum
X-ORIGINAL-URL:https://altekaserne-tickets.ch
X-WR-CALDESC:Veranstaltungen im Ticketreservation Alte Kaserne Kulturzentrum
REFRESH-INTERVAL;VALUE=DURATION:PT1H
X-Robots-Tag:noindex
X-PUBLISHED-TTL:PT1H
BEGIN:VTIMEZONE
TZID:Europe/Helsinki
BEGIN:DAYLIGHT
TZOFFSETFROM:+0200
TZOFFSETTO:+0300
TZNAME:EEST
DTSTART:20250330T010000
END:DAYLIGHT
BEGIN:STANDARD
TZOFFSETFROM:+0300
TZOFFSETTO:+0200
TZNAME:EET
DTSTART:20251026T010000
END:STANDARD
END:VTIMEZONE
BEGIN:VEVENT
DTSTART;TZID=Europe/Helsinki:20251018T120000
DTEND;TZID=Europe/Helsinki:20251019T120000
DTSTAMP:20260420T145817
CREATED:20220624T141126Z
LAST-MODIFIED:20250825T141334Z
UID:515-1760788800-1760875200@altekaserne-tickets.ch
SUMMARY:AUSGEBUCHT! 24 Stunden Comics 2025
DESCRIPTION:FÜR DIE WARTELISTE MELDE DICH GERNE BEI BARBARA:barbara.tribelhorn@win.ch \nSamstag 18. Oktober bis Sonntag 19. Oktober 2025 \n\n\n\nAnmeldebedingungen zur Teilnahme am 24 Stunden Comics \n\n\n\nDiese Teilnahmereservation ist verbindlich. \n\n\n\nBitte achte auf eine korrekte Schreibweise deiner Angaben. Bei fehlerhafter E-Mail-Adresse ist die Anmeldung ungültig! \n\n\n\nWenn du dich erfolgreich anmelden kannst\, erhältst ein Bestätigungsmail und dein Platz gilt als gebucht. Wenn alle Plätze vergeben sind wirst du automatisch informiert. \n\n\n\nDen Unkostenbeitrag von 40.- | 30.- kannst du am ersten Veranstaltungstag vor 12.00 mittags am Empfang im Saal bezahlen. \n\n\n\nSolltest du trotz allem verhindert sein ist es wichtig\, dass du uns so schnell wie möglich benachrichtigst. Bis am 1. Oktober führen wir eine Warteliste und können deinen Platz vielleicht weitergeben. \n\n\n\nStornierungen nach dem 1. Oktober können wir nicht mehr berücksichtigen. Die Unkosten von 40.- | 30.- werden dir verrechnet. \n\n\n\n 
URL:https://altekaserne-tickets.ch/event/24-stunden-comics-2025/
LOCATION:Alte Kaserne Kulturzentrum\, Technikumstrasse 8\, Winterthur\, 8400\, Switzerland
ATTACH;FMTTYPE=image/jpeg:https://altekaserne-tickets.ch/wp-content/uploads/2022/06/24hcomics_2024_Anmeldung.jpg
ORGANIZER;CN="Alte Kaserne":MAILTO:altekaserne@win.ch
END:VEVENT
END:VCALENDAR